BEGIN:VCALENDAR
VERSION:2.0
PRODID:-//wp-events-plugin.com//7.2.3.1//EN
BEGIN:VEVENT
UID:4@ffinetwork.org
DTSTART;VALUE=DATE:20250219
DTEND;VALUE=DATE:20250220
DTSTAMP:20250515T093138Z
URL:https://ffinetwork.org/events/strengthening-n4g-commitments-for-food-f
 ortification-in-africa/
SUMMARY:Strengthening N4G Commitments for Food Fortification in Africa
DESCRIPTION:\n\n\n\n\n\n\n\n\n\n\n\n\n\n\n\n\n\n\n\n\n\n\n\n\nWhere\nVirtua
 l\n\nSummary:\nFollowing the success of the April 2024 LSFF Practitioner C
 onvening in Cape Town\, South Africa\, where over 250 experts identified k
 ey barriers and solutions to accelerate large-scale food fortification (LS
 FF)\, the Micronutrient Data Innovation Alliance (DInA)/Micronutrient Foru
 m\, along with global\, regional\, and national LSFF partners—including 
 the Food Fortification Initiative (FFI) as a co-sponsor—hosted an Africa
  regional webinar consisting of representatives from government\, NGOs\, p
 rivate sector\, and other key stakeholders.\nThis webinar aimed to:\n\n\n 
 	\nEngage stakeholders in identifying priority areas for investment and ac
 tion in LSFF\n\n 	\nProvide guidance on translating the LSFF Commitment Gu
 ide into practical\, measurable steps\n\n 	\nAlign stakeholders on SMART (
 Specific\, Measurable\, Achievable\, Relevant\, Time-bound) commitments fo
 r LSFF\n\n 	\nFoster collaborations and partnerships to drive long-term su
 ccess in fortification programs\n\n\nJessie Genoway\, FFI Communications D
 irector\, spoke alongside Kristin Sundell from the Global Alliance for Imp
 roved Nutrition (GAIN) about resources to support food fortification advoc
 acy and LSFF commitments\, including the Food Fortification Advocacy Toolk
 it and the Global Fortification Data Exchange.\n\nResources\n\n\n\n\n\n\n\
 n\n\n\n\n\n\n\n\n\n\n\n\nWebinar\n\n\n\n\n\n\n\n\n\n\n\n\n\n\n\n\n\nLearn 
 More\n\n\n\n\n\n\n\n\n\n\n\n\n\n\n\n\n
CATEGORIES:2025 Events
END:VEVENT
END:VCALENDAR