BEGIN:VCALENDAR
VERSION:2.0
PRODID:-//wp-events-plugin.com//7.2.3.1//EN
BEGIN:VEVENT
UID:3@ffinetwork.org
DTSTART:20250107T020000Z
DTEND:20250107T020000Z
DTSTAMP:20250515T092657Z
URL:https://ffinetwork.org/events/2025-world-folic-acid-awareness-week-web
 inar/
SUMMARY:2025 World Folic Acid Awareness Week Webinar
DESCRIPTION:\n\n\n\n\n\n\n\n\n\n\n\n\n\n\n\n\n\n\n\n\n\nWhere\nVirtual\n\nS
 ummary:\nEach year in January\, the International Federation for Spina Bif
 ida and Hydrocephalus (IF)\, together with partners across the world\, cel
 ebrates World Folic Acid Awareness Week (WFAAW). The WFAAW is a part of th
 e IF Global Prevention Initiative\, a campaign to raise awareness on how t
 o reduce the prevalence of neural tube defects (NTDs)\, including spina bi
 fida and hydrocephalus\, by promoting policies and actions to ensure that 
 all pregnancies begin with enough folate to support the development of the
  fetus. The WFAAW25 Webinar “Prevention of Neural Tube Defects: Leaving 
 No One Behind”\, included speakers from all over the world who shared th
 eir perspectives on how we can build a smarter\, stronger\, and healthier 
 future for all through food fortification implementation.\nThe event showc
 ased efforts and successes in promoting folic acid awareness and supplemen
 tation\, highlighting the role of advocacy\, education\, and partnerships 
 in achieving this goal. Scott Montgomery\, FFI Director\, presented FFI’
 s current work and fortification opportunities.\n\n\n\n\n\n\n\nResources\n
 \n\n\n\n\n\n\n\n\n\n\n\n\n\n\n\n\n\n\nWebinar\n\n\n\n\n\n\n\n\n\n\n\n\n\n\
 n\n\n\nLearn More\n\n\n\n\n\n\n\n
CATEGORIES:2025 Events
END:VEVENT
END:VCALENDAR